BEGIN:VCALENDAR
VERSION:2.0
PRODID:-//Majestri//SmartCal//EN
BEGIN:VEVENT
UID:e320bb4ef8214ee6ba3e4f6c1acebf08
DTSTAMP:20260425T140000Z
DTSTART:20260515T140000Z
DTEND:20260516T140000Z
SUMMARY:North Queensland Schools Cup 2026
DESCRIPTION:
END:VEVENT
BEGIN:VEVENT
UID:5d627f805d9b4990aa0e2b7a87e91b1e
DTSTAMP:20260425T140000Z
DTSTART:20260828T140000Z
DTEND:20260829T140000Z
SUMMARY:Townsville Classic Juniors 2026
DESCRIPTION:
END:VEVENT
BEGIN:VEVENT
UID:0ce15b150efd48b686052868fc4699f5
DTSTAMP:20260425T140000Z
DTSTART:20260911T140000Z
DTEND:20260912T140000Z
SUMMARY:Townsville Classic Seniors 2026
DESCRIPTION:
END:VEVENT
END:VCALENDAR
